BEGIN:VCALENDAR
VERSION:2.0
PRODID:-//RECYCLING magazine - ECPv6.15.20//NONSGML v1.0//EN
CALSCALE:GREGORIAN
METHOD:PUBLISH
X-WR-CALNAME:RECYCLING magazine
X-ORIGINAL-URL:https://www.recycling-magazine.com
X-WR-CALDESC:Events for RECYCLING magazine
REFRESH-INTERVAL;VALUE=DURATION:PT1H
X-Robots-Tag:noindex
X-PUBLISHED-TTL:PT1H
BEGIN:VTIMEZONE
TZID:Europe/Berlin
BEGIN:DAYLIGHT
TZOFFSETFROM:+0100
TZOFFSETTO:+0200
TZNAME:CEST
DTSTART:20250330T010000
END:DAYLIGHT
BEGIN:STANDARD
TZOFFSETFROM:+0200
TZOFFSETTO:+0100
TZNAME:CET
DTSTART:20251026T010000
END:STANDARD
BEGIN:DAYLIGHT
TZOFFSETFROM:+0100
TZOFFSETTO:+0200
TZNAME:CEST
DTSTART:20260329T010000
END:DAYLIGHT
BEGIN:STANDARD
TZOFFSETFROM:+0200
TZOFFSETTO:+0100
TZNAME:CET
DTSTART:20261025T010000
END:STANDARD
BEGIN:DAYLIGHT
TZOFFSETFROM:+0100
TZOFFSETTO:+0200
TZNAME:CEST
DTSTART:20270328T010000
END:DAYLIGHT
BEGIN:STANDARD
TZOFFSETFROM:+0200
TZOFFSETTO:+0100
TZNAME:CET
DTSTART:20271031T010000
END:STANDARD
END:VTIMEZONE
BEGIN:VEVENT
DTSTART;VALUE=DATE:20260413
DTEND;VALUE=DATE:20260418
DTSTAMP:20260419T151531
CREATED:20250803T125859Z
LAST-MODIFIED:20250803T130012Z
UID:44075-1776038400-1776470399@www.recycling-magazine.com
SUMMARY:ReMA2026 Convention & Exposition
DESCRIPTION:
URL:https://www.recycling-magazine.com/event/rema2026-convention-exposition/
LOCATION:Mandalay Bay Resort & Casino\, 3950 S Las Vegas Blvd.\, Las Vegas\, NV\, NV 89119\, United States
CATEGORIES:Conference,Exhibition
END:VEVENT
END:VCALENDAR